BEGIN:VCALENDAR
VERSION:2.0
PRODID:-//Sabre//Sabre VObject 4.5.8//EN
CALSCALE:GREGORIAN
BEGIN:VEVENT
UID:sabre-vobject-2895c216-b903-4ba0-9efc-db036d4895b2
DTSTAMP:20260419T175534Z
SUMMARY:Ladies Night 
DESCRIPTION:https://regioningolstadt.com/ladies-night_id18344
DTSTART;TZID=Europe/Berlin:20220512T183000
DURATION:PT30M
LOCATION:Weinparadiso\, Oswaldplatz 2\, 86633  Neuburg an der Donau
END:VEVENT
END:VCALENDAR
