BEGIN:VCALENDAR
VERSION:2.0
PRODID:-//Sabre//Sabre VObject 4.5.8//EN
CALSCALE:GREGORIAN
BEGIN:VEVENT
UID:sabre-vobject-a079bacb-6117-4efb-b660-fad331a90c6b
DTSTAMP:20260419T162929Z
SUMMARY:Weinseminar für Einsteiger
DESCRIPTION:https://regioningolstadt.com/weinseminar-fuer-einsteiger_id1834
 3
DTSTART;TZID=Europe/Berlin:20220510T183000
DURATION:PT30M
LOCATION:Weinparadiso\, Oswaldplatz 2\, 86633  Neuburg an der Donau
END:VEVENT
END:VCALENDAR
