BEGIN:VCALENDAR
VERSION:2.0
PRODID:-//Sabre//Sabre VObject 4.5.8//EN
CALSCALE:GREGORIAN
BEGIN:VEVENT
UID:sabre-vobject-3613d05c-5ee3-4c66-8fb8-82eada1f89a1
DTSTAMP:20260419T131725Z
SUMMARY:Maciej Obara Quartet
DESCRIPTION:https://regioningolstadt.com/maciej-obara-quartet_id18342
DTSTART;TZID=Europe/Berlin:20220507T203000
DURATION:PT30M
LOCATION:Birdland Jazz Club\, Am Karlsplatz A 52\, 86633 Neuburg an der Don
 au
END:VEVENT
END:VCALENDAR
