BEGIN:VCALENDAR
VERSION:2.0
PRODID:-//Sabre//Sabre VObject 4.5.8//EN
CALSCALE:GREGORIAN
BEGIN:VEVENT
UID:sabre-vobject-da0a28ea-686f-467e-b0b7-8f04fb1bc191
DTSTAMP:20260419T150131Z
SUMMARY:Senioren Weingespräche mit Le Chef Wilfried Greben inkl. 6er Weinp
 robe
DESCRIPTION:https://regioningolstadt.com/senioren-weingespraeche-mit-le-che
 f-wilfried-greben-inkl-6er-weinprobe_id18339
DTSTART;TZID=Europe/Berlin:20220504T100000
DURATION:PT30M
LOCATION:Weinparadiso\, Oswaldplatz 2\, 86633  Neuburg an der Donau
END:VEVENT
END:VCALENDAR
