BEGIN:VCALENDAR
VERSION:2.0
PRODID:-//Sabre//Sabre VObject 4.5.8//EN
CALSCALE:GREGORIAN
BEGIN:VEVENT
UID:sabre-vobject-ced298cd-7d51-4ea9-9e2e-035a1dbd0b12
DTSTAMP:20260420T063502Z
SUMMARY:Mere Trio & Heinrich von Kalnein
DESCRIPTION:https://regioningolstadt.com/mere-trio-heinrich-von-kalnein_id1
 8337
DTSTART;TZID=Europe/Berlin:20220429T203000
DURATION:PT30M
LOCATION:Birdland Jazz Club\, Am Karlsplatz A 52\, 86633 Neuburg an der Don
 au
END:VEVENT
END:VCALENDAR
