BEGIN:VCALENDAR
VERSION:2.0
PRODID:-//Sabre//Sabre VObject 4.5.8//EN
CALSCALE:GREGORIAN
BEGIN:VEVENT
UID:sabre-vobject-e3f62edc-a490-4c21-913e-719a1c96a1ef
DTSTAMP:20260420T113127Z
SUMMARY:Sächsisch für Anfänger
DESCRIPTION:https://regioningolstadt.com/saechsisch-fuer-anfaenger_id18336
DTSTART;TZID=Europe/Berlin:20220426T200000
DTEND;TZID=Europe/Berlin:20220427T000000
LOCATION:Stadttheater Neuburg\, Ottheinrichplatz\, 86633 Neuburg an der Don
 au
END:VEVENT
END:VCALENDAR
