BEGIN:VCALENDAR
VERSION:2.0
PRODID:-//Sabre//Sabre VObject 4.5.8//EN
CALSCALE:GREGORIAN
BEGIN:VEVENT
UID:sabre-vobject-939e77a1-2dd1-4d5c-9752-c4f5b1115346
DTSTAMP:20260420T191013Z
SUMMARY:James Morrison Quartet
DESCRIPTION:https://regioningolstadt.com/james-morrison-quartet_id18335
DTSTART;TZID=Europe/Berlin:20220423T203000
DURATION:PT30M
LOCATION:Birdland Jazz Club\, Am Karlsplatz A 52\, 86633 Neuburg an der Don
 au
END:VEVENT
END:VCALENDAR
