BEGIN:VCALENDAR
VERSION:2.0
PRODID:-//Sabre//Sabre VObject 4.5.8//EN
CALSCALE:GREGORIAN
BEGIN:VEVENT
UID:sabre-vobject-347e1288-6bc0-45fb-9f72-fe40cf42fb86
DTSTAMP:20260423T100824Z
SUMMARY:Ausstellung "TapeArt"
DESCRIPTION:https://regioningolstadt.com/ausstellung-tapeart_id18312
DTSTART;TZID=Europe/Berlin:20220401T080000
DTEND;TZID=Europe/Berlin:20220501T000000
LOCATION:Bürgerhaus Neuburg\, Berliner Straße 164\, 86633 Neuburg
END:VEVENT
END:VCALENDAR
