BEGIN:VCALENDAR
VERSION:2.0
PRODID:-//Sabre//Sabre VObject 4.5.8//EN
CALSCALE:GREGORIAN
BEGIN:VEVENT
UID:sabre-vobject-89b7fe2c-8c34-4ad6-b2d0-b9b8525d55fc
DTSTAMP:20260420T234810Z
SUMMARY:Marc Copland new Quartet feat. Mark Feldman
DESCRIPTION:https://regioningolstadt.com/marc-copland-new-quartet-feat-mark
 -feldman_id18311
DTSTART;TZID=Europe/Berlin:20220422T203000
DURATION:PT30M
LOCATION:Birdland Jazz Club\, Am Karlsplatz A 52\, 86633 Neuburg an der Don
 au
END:VEVENT
END:VCALENDAR
