BEGIN:VCALENDAR
VERSION:2.0
PRODID:-//Sabre//Sabre VObject 4.5.8//EN
CALSCALE:GREGORIAN
BEGIN:VEVENT
UID:sabre-vobject-c3a104a3-8c3d-4ea0-abfc-6e63bb4ea3ab
DTSTAMP:20260421T043253Z
SUMMARY:Weinseminar für Einsteiger
DESCRIPTION:https://regioningolstadt.com/weinseminar-fuer-einsteiger_id1830
 6
DTSTART;TZID=Europe/Berlin:20220419T183000
DURATION:PT30M
LOCATION:Weinparadiso\, Oswaldplatz 2\, 86633  Neuburg an der Donau
END:VEVENT
END:VCALENDAR
