BEGIN:VCALENDAR
VERSION:2.0
PRODID:-//Sabre//Sabre VObject 4.5.8//EN
CALSCALE:GREGORIAN
BEGIN:VEVENT
UID:sabre-vobject-22e70f6e-b53a-4104-ae88-a90e73b3b1d1
DTSTAMP:20260422T011005Z
SUMMARY:Jermaine Landsberger Trio & Marcel Löffler
DESCRIPTION:https://regioningolstadt.com/jermaine-landsberger-trio-marcel-l
 oeffler_id18304
DTSTART;TZID=Europe/Berlin:20220409T203000
DURATION:PT30M
END:VEVENT
END:VCALENDAR
