BEGIN:VCALENDAR
VERSION:2.0
PRODID:-//Sabre//Sabre VObject 4.5.8//EN
CALSCALE:GREGORIAN
BEGIN:VEVENT
UID:sabre-vobject-bd2c0c36-9212-4287-8c56-1232b4ee5f07
DTSTAMP:20260422T100301Z
SUMMARY:Champain Fulton Trio
DESCRIPTION:https://regioningolstadt.com/champain-fulton-trio_id18298
DTSTART;TZID=Europe/Berlin:20220408T203000
DURATION:PT30M
LOCATION:Birdland Jazz Club\, Am Karlsplatz A 52\, 86633 Neuburg an der Don
 au
END:VEVENT
END:VCALENDAR
