BEGIN:VCALENDAR
VERSION:2.0
PRODID:-//Sabre//Sabre VObject 4.5.8//EN
CALSCALE:GREGORIAN
BEGIN:VEVENT
UID:sabre-vobject-bfd14cdc-3bf4-4b2f-bb22-ffa3035aeeed
DTSTAMP:20260422T190958Z
SUMMARY:Senioren-Weingespräche mit Le Chef Wilfried Greben inkl. 6er Weinp
 robe
DESCRIPTION:https://regioningolstadt.com/senioren-weingespraeche-mit-le-che
 f-wilfried-greben-inkl-6er-weinprobe_id18296
DTSTART;TZID=Europe/Berlin:20220406T110000
DTEND;TZID=Europe/Berlin:20220406T130000
LOCATION:Weinparadiso\, Oswaldplatz 2\, 86633  Neuburg an der Donau
END:VEVENT
END:VCALENDAR
