BEGIN:VCALENDAR
VERSION:2.0
PRODID:-//Sabre//Sabre VObject 4.5.8//EN
CALSCALE:GREGORIAN
BEGIN:VEVENT
UID:sabre-vobject-7f9be5e2-8628-4d06-b63c-2d11df1bdb05
DTSTAMP:20260423T024959Z
SUMMARY:Swinging Ladies +2
DESCRIPTION:https://regioningolstadt.com/swinging-ladies-2_id18295
DTSTART;TZID=Europe/Berlin:20220402T203000
DURATION:PT30M
LOCATION:Birdland Jazz Club\, Am Karlsplatz A 52\, 86633 Neuburg an der Don
 au
END:VEVENT
END:VCALENDAR
