BEGIN:VCALENDAR
VERSION:2.0
PRODID:-//Sabre//Sabre VObject 4.5.8//EN
CALSCALE:GREGORIAN
BEGIN:VEVENT
UID:sabre-vobject-fb78fce4-100a-4572-b77a-4092664f7c0b
DTSTAMP:20260423T041750Z
SUMMARY:Daniel Garcia Trio
DESCRIPTION:https://regioningolstadt.com/daniel-garcia-trio_id18294
DTSTART;TZID=Europe/Berlin:20220401T203000
DURATION:PT30M
LOCATION:Birdland Jazz Club\, Am Karlsplatz A 52\, 86633 Neuburg an der Don
 au
END:VEVENT
END:VCALENDAR
