BEGIN:VCALENDAR
VERSION:2.0
PRODID:-//Sabre//Sabre VObject 4.5.8//EN
CALSCALE:GREGORIAN
BEGIN:VEVENT
UID:sabre-vobject-7114ef42-5f44-4fe2-87ea-72da22ceedd2
DTSTAMP:20260423T020943Z
SUMMARY:Schillers sämtliche Werke ... leicht gekürzt!
DESCRIPTION:https://regioningolstadt.com/schillers-saemtliche-werke-leicht-
 gekuerzt_id18293
DTSTART;TZID=Europe/Berlin:20220603T200000
DTEND;TZID=Europe/Berlin:20220605T000000
LOCATION:Stadttheater Neuburg\, Ottheinrichplatz\, 86633 Neuburg an der Don
 au
END:VEVENT
END:VCALENDAR
