BEGIN:VCALENDAR
VERSION:2.0
PRODID:-//Sabre//Sabre VObject 4.5.8//EN
CALSCALE:GREGORIAN
BEGIN:VEVENT
UID:sabre-vobject-0cf62577-3ca9-43fa-a81f-0393a4780353
DTSTAMP:20260421T141310Z
SUMMARY:12 Jahre Birdland Radio Jazz Festival
DESCRIPTION:https://regioningolstadt.com/12-jahre-birdland-radio-jazz-festi
 val_id18292
DTSTART;TZID=Europe/Berlin:20220527T170000
DTEND;TZID=Europe/Berlin:20220626T000000
LOCATION:Städtische Galerie im Fürstengang\, Amalienstaraße\, 86633 Neub
 urg
END:VEVENT
END:VCALENDAR
