BEGIN:VCALENDAR
VERSION:2.0
PRODID:-//Sabre//Sabre VObject 4.5.8//EN
CALSCALE:GREGORIAN
BEGIN:VEVENT
UID:sabre-vobject-6c1ebfcb-bc06-4e7d-9365-d367a50f4603
DTSTAMP:20260422T143540Z
SUMMARY:Dreierlei
DESCRIPTION:https://regioningolstadt.com/dreierlei_id18291
DTSTART;TZID=Europe/Berlin:20220408T180000
DTEND;TZID=Europe/Berlin:20220501T000000
LOCATION:Städtische Galerie im Fürstengang\, Amalienstaraße\, 86633 Neub
 urg
END:VEVENT
END:VCALENDAR
