BEGIN:VCALENDAR
VERSION:2.0
PRODID:-//Sabre//Sabre VObject 4.5.8//EN
CALSCALE:GREGORIAN
BEGIN:VEVENT
UID:sabre-vobject-5b03a7f2-42c5-4b28-9e68-3fe43a00407a
DTSTAMP:20260422T160347Z
SUMMARY:Ada und ihre Töchter
DESCRIPTION:https://regioningolstadt.com/ada-und-ihre-toechter_id18270
DTSTART;TZID=Europe/Berlin:20220407T200000
DTEND;TZID=Europe/Berlin:20220416T000000
LOCATION:Sporthotel Neuburg\, Am Eichet 8\, 86633 Neuburg-Rödenhof
END:VEVENT
END:VCALENDAR
