BEGIN:VCALENDAR
VERSION:2.0
PRODID:-//Sabre//Sabre VObject 4.5.8//EN
CALSCALE:GREGORIAN
BEGIN:VEVENT
UID:sabre-vobject-957196b1-3484-4016-bdea-0ad94725bd1e
DTSTAMP:20260422T204023Z
SUMMARY:Weinseminar für Einsteiger
DESCRIPTION:https://regioningolstadt.com/weinseminar-fuer-einsteiger_id1823
 9
DTSTART;TZID=Europe/Berlin:20220405T183000
DTEND;TZID=Europe/Berlin:20220405T220000
LOCATION:Weinparadiso\, Oswaldplatz 2\, 86633  Neuburg an der Donau
END:VEVENT
END:VCALENDAR
