BEGIN:VCALENDAR
VERSION:2.0
PRODID:-//Sabre//Sabre VObject 4.5.8//EN
CALSCALE:GREGORIAN
BEGIN:VEVENT
UID:sabre-vobject-d1128eba-a92a-4591-91fe-0effbf12e34b
DTSTAMP:20260422T221541Z
SUMMARY:Mit Bärlauch den Auwald schmecken
DESCRIPTION:https://regioningolstadt.com/mit-baerlauch-den-auwald-schmecken
 _id18238
DTSTART;TZID=Europe/Berlin:20220403T140000
DTEND;TZID=Europe/Berlin:20220403T160000
LOCATION:Schloss Grünau\, Schloss Grünau\, 86633 Neuburg
END:VEVENT
END:VCALENDAR
