BEGIN:VCALENDAR
VERSION:2.0
PRODID:-//Sabre//Sabre VObject 4.5.8//EN
CALSCALE:GREGORIAN
BEGIN:VEVENT
UID:sabre-vobject-856fed70-7d15-4a7e-86de-654b3cfce271
DTSTAMP:20260423T083907Z
SUMMARY:Vino Italia 
DESCRIPTION:https://regioningolstadt.com/vino-italia_id18237
DTSTART;TZID=Europe/Berlin:20220401T183000
DURATION:PT30M
LOCATION:Das ACKER Hotel\, Am Maschinenring 2\, 86633  Neuburg
END:VEVENT
END:VCALENDAR
