BEGIN:VCALENDAR
VERSION:2.0
PRODID:-//Sabre//Sabre VObject 4.5.8//EN
CALSCALE:GREGORIAN
BEGIN:VEVENT
UID:sabre-vobject-4d13e1bb-b19a-4f3e-8692-e0071176a4f3
DTSTAMP:20260423T130310Z
SUMMARY:Senioren-Weingespräche mit Le Chef Wilfried Greben inkl. 6er Weinp
 robe
DESCRIPTION:https://regioningolstadt.com/senioren-weingespraeche-mit-le-che
 f-wilfried-greben-inkl-6er-weinprobe_id18204
DTSTART;TZID=Europe/Berlin:20220323T110000
DTEND;TZID=Europe/Berlin:20220323T130000
LOCATION:Weinparadiso\, Oswaldplatz 2\, 86633  Neuburg an der Donau
END:VEVENT
END:VCALENDAR
