BEGIN:VCALENDAR
VERSION:2.0
PRODID:-//Sabre//Sabre VObject 4.5.8//EN
CALSCALE:GREGORIAN
BEGIN:VEVENT
UID:sabre-vobject-15bd7717-d52f-4aba-a88d-00401f015d50
DTSTAMP:20260421T191451Z
SUMMARY:Marktsonntag in der Innenstadt
DESCRIPTION:https://regioningolstadt.com/marktsonntag-in-der-innenstadt_id1
 8202
DTSTART;TZID=Europe/Berlin:20220410T130000
DTEND;TZID=Europe/Berlin:20220410T180000
LOCATION:Schrannenplatz\, Schrannenplatz\, 86633 Neuburg
END:VEVENT
END:VCALENDAR
