BEGIN:VCALENDAR
VERSION:2.0
PRODID:-//Sabre//Sabre VObject 4.5.8//EN
CALSCALE:GREGORIAN
BEGIN:VEVENT
UID:sabre-vobject-f00d5970-2eb1-49ae-a791-e7ba0fa84095
DTSTAMP:20260423T232703Z
SUMMARY:Natur aus zweiter Hand\, Auenzentrum - Wanderung im Rahmen der Baye
 rnTourNatur
DESCRIPTION:https://regioningolstadt.com/natur-aus-zweiter-hand-auenzentrum
 -wanderung-im-rahmen-der-bayerntournatur_id18130
DTSTART;TZID=Europe/Berlin:20220313T140000
DURATION:PT30M
END:VEVENT
END:VCALENDAR
