BEGIN:VCALENDAR
VERSION:2.0
PRODID:-//Sabre//Sabre VObject 4.5.8//EN
CALSCALE:GREGORIAN
BEGIN:VEVENT
UID:sabre-vobject-253fed0d-97b2-4c27-b819-7748fd3d326e
DTSTAMP:20260423T173542Z
SUMMARY:Ein Maskenball von Giuseppe Verdi
DESCRIPTION:https://regioningolstadt.com/ein-maskenball-von-giuseppe-verdi_
 id18128
DTSTART;TZID=Europe/Berlin:20220319T190000
DURATION:PT30M
LOCATION:Stadttheater Neuburg\, Ottheinrichplatz\, 86633 Neuburg an der Don
 au
END:VEVENT
END:VCALENDAR
