BEGIN:VCALENDAR
VERSION:2.0
PRODID:-//Sabre//Sabre VObject 4.5.8//EN
CALSCALE:GREGORIAN
BEGIN:VEVENT
UID:sabre-vobject-3020f521-b85a-472e-9423-b7220eea138c
DTSTAMP:20260423T220758Z
SUMMARY:Ballett für die ganze Familie
DESCRIPTION:https://regioningolstadt.com/ballett-fuer-die-ganze-familie_id1
 8127
DTSTART;TZID=Europe/Berlin:20220313T160000
DURATION:PT30M
LOCATION:Stadttheater Neuburg\, Ottheinrichplatz\, 86633 Neuburg an der Don
 au
END:VEVENT
END:VCALENDAR
