BEGIN:VCALENDAR
VERSION:2.0
PRODID:-//Sabre//Sabre VObject 4.5.8//EN
CALSCALE:GREGORIAN
BEGIN:VEVENT
UID:sabre-vobject-8332c4c6-177c-4e5d-aaaa-2c50b743ac43
DTSTAMP:20260424T024005Z
SUMMARY:Ballett für die ganze Familie
DESCRIPTION:https://regioningolstadt.com/ballett-fuer-die-ganze-familie_id1
 8126
DTSTART;TZID=Europe/Berlin:20220312T160000
DURATION:PT30M
LOCATION:Stadttheater Neuburg\, Ottheinrichplatz\, 86633 Neuburg an der Don
 au
END:VEVENT
END:VCALENDAR
