BEGIN:VCALENDAR
VERSION:2.0
PRODID:-//Sabre//Sabre VObject 4.5.8//EN
CALSCALE:GREGORIAN
BEGIN:VEVENT
UID:sabre-vobject-ac17c416-f106-49a9-866f-daf000ab524d
DTSTAMP:20260424T040320Z
SUMMARY:Ballett für die ganze Familie
DESCRIPTION:https://regioningolstadt.com/ballett-fuer-die-ganze-familie_id1
 8125
DTSTART;TZID=Europe/Berlin:20220311T183000
DURATION:PT30M
LOCATION:Stadttheater Neuburg\, Ottheinrichplatz\, 86633 Neuburg an der Don
 au
END:VEVENT
END:VCALENDAR
