BEGIN:VCALENDAR
VERSION:2.0
PRODID:-//Sabre//Sabre VObject 4.5.8//EN
CALSCALE:GREGORIAN
BEGIN:VEVENT
UID:sabre-vobject-49c4d302-b742-410d-8ffd-c63789c88897
DTSTAMP:20260423T144009Z
SUMMARY:400 Jahre Barmherzige Brüder in Neuburg
DESCRIPTION:https://regioningolstadt.com/400-jahre-barmherzige-brueder-in-n
 euburg_id18124
DTSTART;TZID=Europe/Berlin:20220320T000000
DTEND;TZID=Europe/Berlin:20221113T000000
LOCATION:Stadtmuseum Neuburg (Weveldhaus)\, Amalienstraße A 19\, 86633 Neu
 burg a. d. Donau
END:VEVENT
END:VCALENDAR
