BEGIN:VCALENDAR
VERSION:2.0
PRODID:-//Sabre//Sabre VObject 4.5.8//EN
CALSCALE:GREGORIAN
BEGIN:VEVENT
UID:sabre-vobject-24091f48-fe4c-4626-b2e6-b6352b761a5f
DTSTAMP:20260423T113401Z
SUMMARY:Ladies Night
DESCRIPTION:https://regioningolstadt.com/ladies-night_id18122
DTSTART;TZID=Europe/Berlin:20220331T183000
DURATION:PT30M
LOCATION:Weinparadiso\, Oswaldplatz 2\, 86633  Neuburg an der Donau
END:VEVENT
END:VCALENDAR
