BEGIN:VCALENDAR
VERSION:2.0
PRODID:-//Sabre//Sabre VObject 4.5.8//EN
CALSCALE:GREGORIAN
BEGIN:VEVENT
UID:sabre-vobject-d71fa73c-6703-4b30-a1fd-0199c3f6b309
DTSTAMP:20260423T204517Z
SUMMARY:Weinseminar für Einsteiger
DESCRIPTION:https://regioningolstadt.com/weinseminar-fuer-einsteiger_id1812
 0
DTSTART;TZID=Europe/Berlin:20220315T183000
DURATION:PT30M
LOCATION:Weinparadiso\, Oswaldplatz 2\, 86633  Neuburg an der Donau
END:VEVENT
END:VCALENDAR
