BEGIN:VCALENDAR
VERSION:2.0
PRODID:-//Sabre//Sabre VObject 4.5.8//EN
CALSCALE:GREGORIAN
BEGIN:VEVENT
UID:sabre-vobject-47fa1d36-a887-41a2-8e33-2ef4666f147a
DTSTAMP:20260422T054047Z
SUMMARY:Die Puppenfee
DESCRIPTION:https://regioningolstadt.com/die-puppenfee_id18117
DTSTART;TZID=Europe/Berlin:20220409T160000
DURATION:PT30M
LOCATION:Stadttheater Neuburg\, Ottheinrichplatz\, 86633 Neuburg an der Don
 au
END:VEVENT
END:VCALENDAR
