BEGIN:VCALENDAR
VERSION:2.0
PRODID:-//Sabre//Sabre VObject 4.5.8//EN
CALSCALE:GREGORIAN
BEGIN:VEVENT
UID:sabre-vobject-51780ab3-75e1-4392-9c6c-552c9870ac29
DTSTAMP:20260422T130500Z
SUMMARY:Die Puppenfee
DESCRIPTION:https://regioningolstadt.com/die-puppenfee_id18115
DTSTART;TZID=Europe/Berlin:20220408T183000
DURATION:PT30M
LOCATION:Stadttheater Neuburg\, Ottheinrichplatz\, 86633 Neuburg an der Don
 au
END:VEVENT
END:VCALENDAR
