BEGIN:VCALENDAR
VERSION:2.0
PRODID:-//Sabre//Sabre VObject 4.5.8//EN
CALSCALE:GREGORIAN
BEGIN:VEVENT
UID:sabre-vobject-84e47e5a-fdfe-437d-be46-d5238f727a24
DTSTAMP:20260420T113121Z
SUMMARY:Die große Transformation
DESCRIPTION:https://regioningolstadt.com/die-grosse-transformation_id18110
DTSTART;TZID=Europe/Berlin:20220520T000000
DURATION:PT30M
LOCATION:THI-Campus Neuburg\, An der Hochschule B 1\, 86633  Neuburg
END:VEVENT
END:VCALENDAR
