BEGIN:VCALENDAR
VERSION:2.0
PRODID:-//Sabre//Sabre VObject 4.5.8//EN
CALSCALE:GREGORIAN
BEGIN:VEVENT
UID:sabre-vobject-2fe3b79b-21e8-4411-9b55-dd902b3a79f2
DTSTAMP:20260424T222150Z
SUMMARY:Do schau her! Mensch und Digital
DESCRIPTION:https://regioningolstadt.com/do-schau-her-mensch-und-digital_id
 18108
DTSTART;TZID=Europe/Berlin:20220126T000000
DTEND;TZID=Europe/Berlin:20220417T000000
LOCATION:das Otto\, Schmidstraße C113\, 86633  Neuburg
END:VEVENT
END:VCALENDAR
