BEGIN:VCALENDAR
VERSION:2.0
PRODID:-//Sabre//Sabre VObject 4.5.8//EN
CALSCALE:GREGORIAN
BEGIN:VEVENT
UID:sabre-vobject-3da3cd51-7c4d-46ea-90e6-a6bc43819772
DTSTAMP:20260424T011229Z
SUMMARY:Starkbierfest im Pfafflinger
DESCRIPTION:https://regioningolstadt.com/starkbierfest-im-pfafflinger_id180
 94
DTSTART;TZID=Europe/Berlin:20220312T180000
DURATION:PT30M
LOCATION:Gasthaus Pfafflinger\, Schrannenplatz C 131\, 86633 Neuburg an der
  Donau
END:VEVENT
END:VCALENDAR
