BEGIN:VCALENDAR
VERSION:2.0
PRODID:-//Sabre//Sabre VObject 4.5.8//EN
CALSCALE:GREGORIAN
BEGIN:VEVENT
UID:sabre-vobject-94208e43-5d04-495a-8097-f55c3e6090f5
DTSTAMP:20260423T160329Z
SUMMARY:Fischerstecher's 80/90er Party
DESCRIPTION:https://regioningolstadt.com/fischerstecher-s-80-90er-party_id1
 8089
DTSTART;TZID=Europe/Berlin:20220319T220000
DURATION:PT30M
LOCATION:Fischerstecher House Bar\, Oskar-Wittmann-Straße 4\, 86633 Neubur
 g
END:VEVENT
END:VCALENDAR
