BEGIN:VCALENDAR
VERSION:2.0
PRODID:-//Sabre//Sabre VObject 4.5.8//EN
CALSCALE:GREGORIAN
BEGIN:VEVENT
UID:sabre-vobject-b5c8e0a9-ba78-4ed2-af19-05beb824d1dc
DTSTAMP:20260419T194643Z
SUMMARY:Yoga Tage Neuburg
DESCRIPTION:https://regioningolstadt.com/yoga-tage-neuburg_id18081
DTSTART;TZID=Europe/Berlin:20220501T000000
DTEND;TZID=Europe/Berlin:20220807T000000
LOCATION:Wittelsbacher Golfclub\, Rohrenfeld 102\, 86633 Neuburg an der Don
 au
END:VEVENT
END:VCALENDAR
