BEGIN:VCALENDAR
VERSION:2.0
PRODID:-//Sabre//Sabre VObject 4.5.8//EN
CALSCALE:GREGORIAN
BEGIN:VEVENT
UID:sabre-vobject-cc2ab0f9-cfe1-4739-a0b7-dfccda014aea
DTSTAMP:20260424T082556Z
SUMMARY:Kellerkunst
DESCRIPTION:https://regioningolstadt.com/kellerkunst_id18059
DTSTART;TZID=Europe/Berlin:20220306T000000
DTEND;TZID=Europe/Berlin:20220327T000000
LOCATION:Rathausfletz \, Residenzstraße A 66\, 86633 Neuburg
END:VEVENT
END:VCALENDAR
