BEGIN:VCALENDAR
VERSION:2.0
PRODID:-//Sabre//Sabre VObject 4.5.8//EN
CALSCALE:GREGORIAN
BEGIN:VEVENT
UID:sabre-vobject-ee5cdfc1-d38e-4a56-b8df-9fe239ee9cab
DTSTAMP:20260424T051956Z
SUMMARY:Verbunden
DESCRIPTION:https://regioningolstadt.com/verbunden_id18057
DTSTART;TZID=Europe/Berlin:20220311T000000
DTEND;TZID=Europe/Berlin:20220403T000000
LOCATION:Städtische Galerie im Fürstengang\, Amalienstaraße\, 86633 Neub
 urg
END:VEVENT
END:VCALENDAR
