BEGIN:VCALENDAR
VERSION:2.0
PRODID:-//Sabre//Sabre VObject 4.5.8//EN
CALSCALE:GREGORIAN
BEGIN:VEVENT
UID:sabre-vobject-56c8ae7c-2779-45e4-8312-86b658c16971
DTSTAMP:20260424T065055Z
SUMMARY:Frühjahrsputz in Neuburg
DESCRIPTION:https://regioningolstadt.com/fruehjahrsputz-in-neuburg_id18031
DTSTART;TZID=Europe/Berlin:20220306T140000
DURATION:PT30M
LOCATION:TSV Sportanlage im Englischen Garten\, Flachslandenstraße 25\, 86
 633 Neuburg
END:VEVENT
END:VCALENDAR
