BEGIN:VCALENDAR
VERSION:2.0
PRODID:-//Sabre//Sabre VObject 4.5.8//EN
CALSCALE:GREGORIAN
BEGIN:VEVENT
UID:sabre-vobject-568ce63d-e997-43ee-9c9c-c9444fce1222
DTSTAMP:20260424T100731Z
SUMMARY:Vorstellung der OM-1
DESCRIPTION:https://regioningolstadt.com/vorstellung-der-om-1_id18023
DTSTART;TZID=Europe/Berlin:20220301T130000
DURATION:PT30M
LOCATION:RINGFOTO  SPIESS\, Weinstraße 121\, 86633 Neuburg an der Donau
END:VEVENT
END:VCALENDAR
