BEGIN:VCALENDAR
VERSION:2.0
PRODID:-//Sabre//Sabre VObject 4.5.8//EN
CALSCALE:GREGORIAN
BEGIN:VEVENT
UID:sabre-vobject-446adba2-6619-4bef-b106-11ad7f97f315
DTSTAMP:20260424T233426Z
SUMMARY:Flohmarkt Parkplatz Rewe
DESCRIPTION:https://regioningolstadt.com/flohmarkt-parkplatz-rewe_id18005
DTSTART;TZID=Europe/Berlin:20220626T080000
DURATION:PT30M
LOCATION:REWE Stefan Guggenmos OHG\, Nördliche Grünauer Straße 4\, 86633
  Neuburg an der Donau
END:VEVENT
END:VCALENDAR
