BEGIN:VCALENDAR
VERSION:2.0
PRODID:-//Sabre//Sabre VObject 4.5.8//EN
CALSCALE:GREGORIAN
BEGIN:VEVENT
UID:sabre-vobject-fb0170bc-cad0-42ee-8dc0-b493c23bcc2c
DTSTAMP:20260424T062048Z
SUMMARY:Flohmarkt am Südpark Neuburg
DESCRIPTION:https://regioningolstadt.com/flohmarkt-am-suedpark-neuburg_id18
 004
DTSTART;TZID=Europe/Berlin:20220612T070000
DTEND;TZID=Europe/Berlin:20220612T140000
LOCATION:Südpark\, Südpark\, 86633 Neuburg
END:VEVENT
END:VCALENDAR
