BEGIN:VCALENDAR
VERSION:2.0
PRODID:-//Sabre//Sabre VObject 4.5.8//EN
CALSCALE:GREGORIAN
BEGIN:VEVENT
UID:sabre-vobject-f673c941-1bd2-4f72-93fd-c696e9953624
DTSTAMP:20260424T031929Z
SUMMARY:Weinverkostung mit Weinbergführung
DESCRIPTION:https://regioningolstadt.com/weinverkostung-mit-weinbergfuehrun
 g_id18003
DTSTART;TZID=Europe/Berlin:20220611T150000
DURATION:PT30M
LOCATION:Weinhaus Tremml\, Seestraße 41\, 86633 Neuburg an der Donau
END:VEVENT
END:VCALENDAR
