BEGIN:VCALENDAR
VERSION:2.0
PRODID:-//Sabre//Sabre VObject 4.5.8//EN
CALSCALE:GREGORIAN
BEGIN:VEVENT
UID:sabre-vobject-b20a4fe8-6323-4ae0-9066-f5c938534077
DTSTAMP:20260423T115407Z
SUMMARY:Werner Schmidbauer
DESCRIPTION:https://regioningolstadt.com/werner-schmidbauer_id18002
DTSTART;TZID=Europe/Berlin:20220604T200000
DURATION:PT30M
LOCATION:Parkhalle\, Ludwig-Thoma-Platz 1\, 86633 Neuburg
END:VEVENT
END:VCALENDAR
