BEGIN:VCALENDAR
VERSION:2.0
PRODID:-//Sabre//Sabre VObject 4.5.8//EN
CALSCALE:GREGORIAN
BEGIN:VEVENT
UID:sabre-vobject-f3fb26aa-4cc8-419d-a032-dab420912867
DTSTAMP:20260419T164811Z
SUMMARY:Flohmarkt am Südpark Neuburg
DESCRIPTION:https://regioningolstadt.com/flohmarkt-am-suedpark-neuburg_id17
 971
DTSTART;TZID=Europe/Berlin:20220501T070000
DURATION:PT30M
LOCATION:Südpark\, Südpark\, 86633 Neuburg
END:VEVENT
END:VCALENDAR
