BEGIN:VCALENDAR
VERSION:2.0
PRODID:-//Sabre//Sabre VObject 4.5.8//EN
CALSCALE:GREGORIAN
BEGIN:VEVENT
UID:sabre-vobject-f6826e71-41c0-41c2-a807-a37a6914becc
DTSTAMP:20260421T064735Z
SUMMARY:Grünauer Rittertage
DESCRIPTION:https://regioningolstadt.com/gruenauer-rittertage_id17970
DTSTART;TZID=Europe/Berlin:20220526T110000
DTEND;TZID=Europe/Berlin:20220529T200000
END:VEVENT
END:VCALENDAR
