BEGIN:VCALENDAR
VERSION:2.0
PRODID:-//Sabre//Sabre VObject 4.5.8//EN
CALSCALE:GREGORIAN
BEGIN:VEVENT
UID:sabre-vobject-36e0d9dc-38bc-49e3-94e8-34e4b1dfaf47
DTSTAMP:20260422T154940Z
SUMMARY:Don Quijote
DESCRIPTION:https://regioningolstadt.com/don-quijote_id17967
DTSTART;TZID=Europe/Berlin:20220531T200000
DURATION:PT30M
LOCATION:Stadttheater Neuburg\, Ottheinrichplatz\, 86633 Neuburg an der Don
 au
END:VEVENT
END:VCALENDAR
